BEGIN:VCALENDAR
VERSION:2.0
PRODID:-//ChamberMaster//Event Calendar 2.0//EN
METHOD:PUBLISH
X-PUBLISHED-TTL:P1H
REFRESH-INTERVAL:P1H
CALSCALE:GREGORIAN
BEGIN:VTIMEZONE
TZID:America/Chicago
BEGIN:DAYLIGHT
RRULE:FREQ=YEARLY;BYMONTH=3;BYDAY=2SU
DTSTART:20070101T000000
TZOFFSETFROM:-0600
TZOFFSETTO:-0500
TZNAME:Central Daylight Time
END:DAYLIGHT
BEGIN:STANDARD
RRULE:FREQ=YEARLY;BYMONTH=11;BYDAY=1SU
DTSTART:20070101T000000
TZOFFSETFROM:-0500
TZOFFSETTO:-0600
TZNAME:Central Standard Time
END:STANDARD
END:VTIMEZONE
BEGIN:VEVENT
DTSTART;TZID=America/Chicago:20260416T180000
DTEND;TZID=America/Chicago:20260416T193000
X-MICROSOFT-CDO-ALLDAYEVENT:FALSE
SUMMARY:Loons & Lakes Trivia
DESCRIPTION:Join us April 16 for an evening of fun\, friendly competition\, and a little lake learning 🌊 We're excited to host Loon & Lakes Trivia Night in partnership with the National Loon Center and WAPOA. It's one of those nights where you come for the fun and leave knowing something new about the place we all love. And it makes it even more special being just across the street from the future home of the National Loon Center\, opening Spring 2027. We can't wait. What to expect: Trivia rounds focused on loons\, lakes\, and Minnesota life 🧠🌲 Teams of 2 6 people (or join one when you arrive) 👯 ♀️ Fun prizes for the top teams 🏆 Bonus points for bringing in old lead tackle\, help protect our loons and lakes ♻️ Whether you're a trivia regular or just looking for a great night out\, this is an easy\, feel-good way to gather\, learn something new\, and connect with the community. No registration needed. Just come in\, grab a seat\, and join us.
X-ALT-DESC;FMTTYPE=text/html:<!DOCTYPE html><html><head><title></title></head><body aria-disabled="false"><p>Join us April 16 for an evening of fun\, friendly competition\, and a little lake learning 🌊&nbsp\;</p><p>We&rsquo\;re excited to host Loon &amp\; Lakes Trivia Night in partnership with the National Loon Center and WAPOA. It&rsquo\;s one of those nights where you come for the fun and leave knowing something new about the place we all love.&nbsp\;</p><p>And it makes it even more special being just across the street from the future home of the National Loon Center\, opening Spring 2027. We can&rsquo\;t wait.&nbsp\;</p><p>What to expect:&nbsp\;</p><ul fr-original-style="" style="list-style-position: inside\;"><li>Trivia rounds focused on loons\, lakes\, and Minnesota life 🧠🌲&nbsp\;</li><li>Teams of 2&ndash\;6 people (or join one when you arrive) 👯&zwj\;♀️&nbsp\;</li><li>Fun prizes for the top teams 🏆&nbsp\;</li><li>Bonus points for bringing in old lead tackle\, help protect our loons and lakes ♻️&nbsp\;</li></ul><p>Whether you&rsquo\;re a trivia regular or just looking for a great night out\, this is an easy\, feel-good way to gather\, learn something new\, and connect with the community. No registration needed. Just come in\, grab a seat\, and join us.</p></body></html>
LOCATION:35494 Co Rd 3 Crosslake MN 56442
UID:e.2467.1442834
SEQUENCE:3
DTSTAMP:20260420T095703Z
URL:https://business.crosslake.com/eventcalendar/Details/loons-lakes-trivia-1708962?sourceTypeId=Hub
END:VEVENT
END:VCALENDAR
