BEGIN:VCALENDAR
VERSION:2.0
PRODID:-//ChamberMaster//Event Calendar 2.0//EN
METHOD:PUBLISH
X-PUBLISHED-TTL:P1H
REFRESH-INTERVAL:P1H
CALSCALE:GREGORIAN
BEGIN:VTIMEZONE
TZID:America/Chicago
BEGIN:DAYLIGHT
RRULE:FREQ=YEARLY;BYMONTH=3;BYDAY=2SU
DTSTART:20070101T000000
TZOFFSETFROM:-0600
TZOFFSETTO:-0500
TZNAME:Central Daylight Time
END:DAYLIGHT
BEGIN:STANDARD
RRULE:FREQ=YEARLY;BYMONTH=11;BYDAY=1SU
DTSTART:20070101T000000
TZOFFSETFROM:-0500
TZOFFSETTO:-0600
TZNAME:Central Standard Time
END:STANDARD
END:VTIMEZONE
BEGIN:VEVENT
DTSTART;TZID=America/Chicago:20260801T103000
DTEND;TZID=America/Chicago:20260801T140000
X-MICROSOFT-CDO-ALLDAYEVENT:FALSE
SUMMARY:Rug Hooking & Spinning Yarn at the Crosslake Log Village
DESCRIPTION:Enjoy demonstrations of traditional rug hooking\, with original pieces on display\, and watch spinning wheels turn fiber into yarn just as they did in years long past.
X-ALT-DESC;FMTTYPE=text/html:Enjoy demonstrations of traditional rug hooking\, with original pieces on display\, and watch spinning wheels turn fiber into yarn just as they did in years long past.
LOCATION:35404 County Road 3 Crosslake MN 56442
UID:e.2467.1450308
SEQUENCE:3
DTSTAMP:20260424T150830Z
URL:https://business.crosslake.com/eventcalendar/Details/rug-hooking-spinning-yarn-at-the-crosslake-log-village-1717888?sourceTypeId=Hub
END:VEVENT
END:VCALENDAR
