BEGIN:VCALENDAR
VERSION:2.0
PRODID:-//ChamberMaster//Event Calendar 2.0//EN
METHOD:PUBLISH
X-PUBLISHED-TTL:P1H
REFRESH-INTERVAL:P1H
CALSCALE:GREGORIAN
BEGIN:VTIMEZONE
TZID:America/Chicago
BEGIN:DAYLIGHT
RRULE:FREQ=YEARLY;BYMONTH=3;BYDAY=2SU
DTSTART:20070101T000000
TZOFFSETFROM:-0600
TZOFFSETTO:-0500
TZNAME:Central Daylight Time
END:DAYLIGHT
BEGIN:STANDARD
RRULE:FREQ=YEARLY;BYMONTH=11;BYDAY=1SU
DTSTART:20070101T000000
TZOFFSETFROM:-0500
TZOFFSETTO:-0600
TZNAME:Central Standard Time
END:STANDARD
END:VTIMEZONE
BEGIN:VEVENT
DTSTART;TZID=America/Chicago:20260910T120000
DTEND;TZID=America/Chicago:20260910T180000
X-MICROSOFT-CDO-ALLDAYEVENT:FALSE
SUMMARY:Blood Drive - Crosslake\, MN
DESCRIPTION:Join us for a life-saving blood drive and make a difference in your community. Donating blood is quick\, safe\, and helps save lives. To make an appointment\, download the Red Cross Blood Donor App\, visit RedCross.org or call 1-800-REDCROSS (1-800-733-2767).This blood drive is sponsored by the Crosslake Ideal Lions.
X-ALT-DESC;FMTTYPE=text/html:<!DOCTYPE html><html><head><title></title></head><body aria-disabled="false"><p>Join us for a life-saving blood drive and make a difference in your community. Donating blood is quick\, safe\, and helps save lives. To make an appointment\, download the Red Cross Blood Donor App\, visit RedCross.org or call 1-800-REDCROSS (1-800-733-2767).</p><p>This blood drive is sponsored by the Crosslake Ideal Lions.</p></body></html>
LOCATION:35960 County Road 66 Crosslake MN 56442
UID:e.2467.1449856
SEQUENCE:3
DTSTAMP:20260424T150442Z
URL:https://business.crosslake.com/eventcalendar/Details/blood-drive-crosslake-mn-1717360?sourceTypeId=Hub
END:VEVENT
END:VCALENDAR
